BEGIN:VCALENDAR
VERSION:2.0
PRODID:-//eventon.com NONSGML v1.0//EN
BEGIN:VEVENT
UID:69e5aac802a83
DTSTAMP:20260420T062544
DTSTART:20220423
DTEND:20220424
TZID:Europe/Berlin
LOCATION:Imola - Autodromo Internazionale Enzo e Dino Ferrari 
SUMMARY:DTM ESports Championship 2022
DESCRIPTION: After the end of an exciting and spectacular season in the DTM and DTM Trophy\,  the DTM Esports Championship powered by MediaMarkt is back with a bang. In this top-class e-sports competition\,  29 top sim racers battle it out for the title and the unique chance to move up into[..]\nhttps://motoresports.net/events/dtm-esports-championship-2022/
URL:https://motoresports.net/events/dtm-esports-championship-2022/
END:VEVENT
END:VCALENDAR